BEGIN:VCALENDAR
VERSION:2.0
PRODID:-//Astrid-Lindgren-Schule - ECPv6.15.17.1//NONSGML v1.0//EN
CALSCALE:GREGORIAN
METHOD:PUBLISH
X-WR-CALNAME:Astrid-Lindgren-Schule
X-ORIGINAL-URL:https://als-lohnde.de
X-WR-CALDESC:Veranstaltungen für Astrid-Lindgren-Schule
REFRESH-INTERVAL;VALUE=DURATION:PT1H
X-Robots-Tag:noindex
X-PUBLISHED-TTL:PT1H
BEGIN:VTIMEZONE
TZID:Europe/Berlin
BEGIN:DAYLIGHT
TZOFFSETFROM:+0100
TZOFFSETTO:+0200
TZNAME:CEST
DTSTART:20250330T010000
END:DAYLIGHT
BEGIN:STANDARD
TZOFFSETFROM:+0200
TZOFFSETTO:+0100
TZNAME:CET
DTSTART:20251026T010000
END:STANDARD
BEGIN:DAYLIGHT
TZOFFSETFROM:+0100
TZOFFSETTO:+0200
TZNAME:CEST
DTSTART:20260329T010000
END:DAYLIGHT
BEGIN:STANDARD
TZOFFSETFROM:+0200
TZOFFSETTO:+0100
TZNAME:CET
DTSTART:20261025T010000
END:STANDARD
BEGIN:DAYLIGHT
TZOFFSETFROM:+0100
TZOFFSETTO:+0200
TZNAME:CEST
DTSTART:20270328T010000
END:DAYLIGHT
BEGIN:STANDARD
TZOFFSETFROM:+0200
TZOFFSETTO:+0100
TZNAME:CET
DTSTART:20271031T010000
END:STANDARD
END:VTIMEZONE
BEGIN:VEVENT
DTSTART;TZID=Europe/Berlin:20260604T080000
DTEND;TZID=Europe/Berlin:20260604T120000
DTSTAMP:20260421T153420
CREATED:20260417T083437Z
LAST-MODIFIED:20260417T083437Z
UID:10000450-1780560000-1780574400@als-lohnde.de
SUMMARY:Besuch Stadtbibliothek Seelze 2a
DESCRIPTION:
URL:https://als-lohnde.de/veranstaltungen/besuch-stadtbibliothek-seelze-2a/
CATEGORIES:Eltern,Lehrer
END:VEVENT
BEGIN:VEVENT
DTSTART;TZID=Europe/Berlin:20260608T080000
DTEND;TZID=Europe/Berlin:20260608T093000
DTSTAMP:20260421T153420
CREATED:20260417T083543Z
LAST-MODIFIED:20260417T083543Z
UID:10000451-1780905600-1780911000@als-lohnde.de
SUMMARY:Fahrradkontrolle Jhg. 3
DESCRIPTION:
URL:https://als-lohnde.de/veranstaltungen/fahrradkontrolle-jhg-3/
CATEGORIES:Eltern,Lehrer
END:VEVENT
BEGIN:VEVENT
DTSTART;TZID=Europe/Berlin:20260609T173000
DTEND;TZID=Europe/Berlin:20260609T190000
DTSTAMP:20260421T153420
CREATED:20260121T131249Z
LAST-MODIFIED:20260417T083655Z
UID:10000424-1781026200-1781031600@als-lohnde.de
SUMMARY:Elternabend neue 1. Klassen
DESCRIPTION:
URL:https://als-lohnde.de/veranstaltungen/elternabend-neue-1-klassen-3/
CATEGORIES:Eltern,Lehrer
END:VEVENT
BEGIN:VEVENT
DTSTART;TZID=Europe/Berlin:20260609T193000
DTEND;TZID=Europe/Berlin:20260609T203000
DTSTAMP:20260421T153420
CREATED:20260318T113932Z
LAST-MODIFIED:20260417T083903Z
UID:10000436-1781033400-1781037000@als-lohnde.de
SUMMARY:Elternabend Info Ganztag
DESCRIPTION:
URL:https://als-lohnde.de/veranstaltungen/elternabend-fuer-die-zukuenftigen-2-3-und-4-kl/
CATEGORIES:Eltern,Lehrer
END:VEVENT
BEGIN:VEVENT
DTSTART;TZID=Europe/Berlin:20260615T140000
DTEND;TZID=Europe/Berlin:20260615T170000
DTSTAMP:20260421T153420
CREATED:20260410T080640Z
LAST-MODIFIED:20260410T080640Z
UID:10000443-1781532000-1781542800@als-lohnde.de
SUMMARY:Zeugniskonferenzen
DESCRIPTION:
URL:https://als-lohnde.de/veranstaltungen/zeugniskonferenzen-2/
CATEGORIES:Eltern,Lehrer
END:VEVENT
BEGIN:VEVENT
DTSTART;VALUE=DATE:20260622
DTEND;VALUE=DATE:20260623
DTSTAMP:20260421T153420
CREATED:20260121T131745Z
LAST-MODIFIED:20260318T113255Z
UID:10000428-1782086400-1782172799@als-lohnde.de
SUMMARY:SchiLf
DESCRIPTION:
URL:https://als-lohnde.de/veranstaltungen/schilf/
CATEGORIES:Eltern,Lehrer
END:VEVENT
BEGIN:VEVENT
DTSTART;TZID=Europe/Berlin:20260626T080000
DTEND;TZID=Europe/Berlin:20260626T100000
DTSTAMP:20260421T153420
CREATED:20260121T131353Z
LAST-MODIFIED:20260121T131353Z
UID:10000425-1782460800-1782468000@als-lohnde.de
SUMMARY:gem. Frühstück
DESCRIPTION:
URL:https://als-lohnde.de/veranstaltungen/gem-fruehstueck-10/
CATEGORIES:Eltern,Lehrer
END:VEVENT
BEGIN:VEVENT
DTSTART;TZID=Europe/Berlin:20260630T100000
DTEND;TZID=Europe/Berlin:20260630T120000
DTSTAMP:20260421T153420
CREATED:20260121T131515Z
LAST-MODIFIED:20260417T075245Z
UID:10000426-1782813600-1782820800@als-lohnde.de
SUMMARY:Verabschiedung 4. Klassen
DESCRIPTION:
URL:https://als-lohnde.de/veranstaltungen/verabschiedung-4-klassen-2/
CATEGORIES:Eltern,Lehrer
END:VEVENT
END:VCALENDAR