BEGIN:VCALENDAR
VERSION:2.0
PRODID:-//Astrid-Lindgren-Schule - ECPv6.15.17.1//NONSGML v1.0//EN
CALSCALE:GREGORIAN
METHOD:PUBLISH
X-WR-CALNAME:Astrid-Lindgren-Schule
X-ORIGINAL-URL:https://als-lohnde.de
X-WR-CALDESC:Veranstaltungen für Astrid-Lindgren-Schule
REFRESH-INTERVAL;VALUE=DURATION:PT1H
X-Robots-Tag:noindex
X-PUBLISHED-TTL:PT1H
BEGIN:VTIMEZONE
TZID:Europe/Berlin
BEGIN:DAYLIGHT
TZOFFSETFROM:+0100
TZOFFSETTO:+0200
TZNAME:CEST
DTSTART:20250330T010000
END:DAYLIGHT
BEGIN:STANDARD
TZOFFSETFROM:+0200
TZOFFSETTO:+0100
TZNAME:CET
DTSTART:20251026T010000
END:STANDARD
BEGIN:DAYLIGHT
TZOFFSETFROM:+0100
TZOFFSETTO:+0200
TZNAME:CEST
DTSTART:20260329T010000
END:DAYLIGHT
BEGIN:STANDARD
TZOFFSETFROM:+0200
TZOFFSETTO:+0100
TZNAME:CET
DTSTART:20261025T010000
END:STANDARD
BEGIN:DAYLIGHT
TZOFFSETFROM:+0100
TZOFFSETTO:+0200
TZNAME:CEST
DTSTART:20270328T010000
END:DAYLIGHT
BEGIN:STANDARD
TZOFFSETFROM:+0200
TZOFFSETTO:+0100
TZNAME:CET
DTSTART:20271031T010000
END:STANDARD
END:VTIMEZONE
BEGIN:VEVENT
DTSTART;TZID=Europe/Berlin:20260504T080000
DTEND;TZID=Europe/Berlin:20260508T130000
DTSTAMP:20260421T100506
CREATED:20260410T080419Z
LAST-MODIFIED:20260417T083015Z
UID:10000442-1777881600-1778245200@als-lohnde.de
SUMMARY:Hexe Mirola
DESCRIPTION:
URL:https://als-lohnde.de/veranstaltungen/hexe-mirola-2/
CATEGORIES:Eltern,Lehrer
END:VEVENT
BEGIN:VEVENT
DTSTART;TZID=Europe/Berlin:20260504T180000
DTEND;TZID=Europe/Berlin:20260504T193000
DTSTAMP:20260421T100506
CREATED:20260121T131044Z
LAST-MODIFIED:20260416T081824Z
UID:10000423-1777917600-1777923000@als-lohnde.de
SUMMARY:GK + Schulvorstand
DESCRIPTION:
URL:https://als-lohnde.de/veranstaltungen/gk-schulvorstand/
CATEGORIES:Eltern,Lehrer
END:VEVENT
BEGIN:VEVENT
DTSTART;TZID=Europe/Berlin:20260508T100000
DTEND;TZID=Europe/Berlin:20260508T113000
DTSTAMP:20260421T100506
CREATED:20260416T081914Z
LAST-MODIFIED:20260416T081914Z
UID:10000444-1778234400-1778239800@als-lohnde.de
SUMMARY:Laufabzeichen
DESCRIPTION:
URL:https://als-lohnde.de/veranstaltungen/laufabzeichen/
CATEGORIES:Eltern,Lehrer
END:VEVENT
BEGIN:VEVENT
DTSTART;TZID=Europe/Berlin:20260518T160000
DTEND;TZID=Europe/Berlin:20260518T170000
DTSTAMP:20260421T100506
CREATED:20260417T083157Z
LAST-MODIFIED:20260417T083157Z
UID:10000448-1779120000-1779123600@als-lohnde.de
SUMMARY:Raupe Nimmersatt 2a
DESCRIPTION:
URL:https://als-lohnde.de/veranstaltungen/raupe-nimmersatt-2a/
CATEGORIES:Eltern,Lehrer
END:VEVENT
BEGIN:VEVENT
DTSTART;TZID=Europe/Berlin:20260519T110000
DTEND;TZID=Europe/Berlin:20260519T120000
DTSTAMP:20260421T100506
CREATED:20260417T083230Z
LAST-MODIFIED:20260417T083230Z
UID:10000449-1779188400-1779192000@als-lohnde.de
SUMMARY:Raupe Nimmersatt 2a
DESCRIPTION:
URL:https://als-lohnde.de/veranstaltungen/raupe-nimmersatt-2a-2/
CATEGORIES:Eltern,Lehrer
END:VEVENT
BEGIN:VEVENT
DTSTART;TZID=Europe/Berlin:20260522T100000
DTEND;TZID=Europe/Berlin:20260522T113000
DTSTAMP:20260421T100506
CREATED:20260127T120436Z
LAST-MODIFIED:20260127T120436Z
UID:10000429-1779444000-1779449400@als-lohnde.de
SUMMARY:Sponsorenlauf
DESCRIPTION:
URL:https://als-lohnde.de/veranstaltungen/sponsorenlauf-5/
CATEGORIES:Eltern,Lehrer
END:VEVENT
BEGIN:VEVENT
DTSTART;TZID=Europe/Berlin:20260523T080000
DTEND;TZID=Europe/Berlin:20260526T170000
DTSTAMP:20260421T100506
CREATED:20250702T134417Z
LAST-MODIFIED:20250702T134605Z
UID:10000386-1779523200-1779814800@als-lohnde.de
SUMMARY:Pfingsten
DESCRIPTION:
URL:https://als-lohnde.de/veranstaltungen/schulfrei-9/
CATEGORIES:Ferien
END:VEVENT
BEGIN:VEVENT
DTSTART;TZID=Europe/Berlin:20260527T080000
DTEND;TZID=Europe/Berlin:20260527T120000
DTSTAMP:20260421T100506
CREATED:20260410T080212Z
LAST-MODIFIED:20260410T080212Z
UID:10000441-1779868800-1779883200@als-lohnde.de
SUMMARY:Radfahrprüfung Jhg. 4
DESCRIPTION:
URL:https://als-lohnde.de/veranstaltungen/radfahrpruefung-jhg-4/
CATEGORIES:Eltern,Lehrer
END:VEVENT
BEGIN:VEVENT
DTSTART;TZID=Europe/Berlin:20260529T080000
DTEND;TZID=Europe/Berlin:20260529T100000
DTSTAMP:20260421T100506
CREATED:20260121T130926Z
LAST-MODIFIED:20260121T130926Z
UID:10000422-1780041600-1780048800@als-lohnde.de
SUMMARY:gem. Frühstück
DESCRIPTION:
URL:https://als-lohnde.de/veranstaltungen/gem-fruehstueck-9/
CATEGORIES:Eltern,Lehrer
END:VEVENT
END:VCALENDAR