BEGIN:VCALENDAR
VERSION:2.0
PRODID:-//Astrid-Lindgren-Schule - ECPv6.15.17.1//NONSGML v1.0//EN
CALSCALE:GREGORIAN
METHOD:PUBLISH
X-ORIGINAL-URL:https://als-lohnde.de
X-WR-CALDESC:Veranstaltungen für Astrid-Lindgren-Schule
REFRESH-INTERVAL;VALUE=DURATION:PT1H
X-Robots-Tag:noindex
X-PUBLISHED-TTL:PT1H
BEGIN:VTIMEZONE
TZID:Europe/Berlin
BEGIN:DAYLIGHT
TZOFFSETFROM:+0100
TZOFFSETTO:+0200
TZNAME:CEST
DTSTART:20250330T010000
END:DAYLIGHT
BEGIN:STANDARD
TZOFFSETFROM:+0200
TZOFFSETTO:+0100
TZNAME:CET
DTSTART:20251026T010000
END:STANDARD
BEGIN:DAYLIGHT
TZOFFSETFROM:+0100
TZOFFSETTO:+0200
TZNAME:CEST
DTSTART:20260329T010000
END:DAYLIGHT
BEGIN:STANDARD
TZOFFSETFROM:+0200
TZOFFSETTO:+0100
TZNAME:CET
DTSTART:20261025T010000
END:STANDARD
BEGIN:DAYLIGHT
TZOFFSETFROM:+0100
TZOFFSETTO:+0200
TZNAME:CEST
DTSTART:20270328T010000
END:DAYLIGHT
BEGIN:STANDARD
TZOFFSETFROM:+0200
TZOFFSETTO:+0100
TZNAME:CET
DTSTART:20271031T010000
END:STANDARD
END:VTIMEZONE
BEGIN:VEVENT
DTSTART;TZID=Europe/Berlin:20260609T173000
DTEND;TZID=Europe/Berlin:20260609T190000
DTSTAMP:20260421T172949
CREATED:20260121T131249Z
LAST-MODIFIED:20260417T083655Z
UID:10000424-1781026200-1781031600@als-lohnde.de
SUMMARY:Elternabend neue 1. Klassen
DESCRIPTION:
URL:https://als-lohnde.de/veranstaltungen/elternabend-neue-1-klassen-3/
CATEGORIES:Eltern,Lehrer
END:VEVENT
BEGIN:VEVENT
DTSTART;TZID=Europe/Berlin:20260609T193000
DTEND;TZID=Europe/Berlin:20260609T203000
DTSTAMP:20260421T172949
CREATED:20260318T113932Z
LAST-MODIFIED:20260417T083903Z
UID:10000436-1781033400-1781037000@als-lohnde.de
SUMMARY:Elternabend Info Ganztag
DESCRIPTION:
URL:https://als-lohnde.de/veranstaltungen/elternabend-fuer-die-zukuenftigen-2-3-und-4-kl/
CATEGORIES:Eltern,Lehrer
END:VEVENT
END:VCALENDAR